BEGIN:VCALENDAR
VERSION:2.0
PRODID:-//Tukios.com/
BEGIN:VEVENT
UID:19968fb5-5f01-4065-91da-3c949622a87f@www.mattesonfh.com
DTSTAMP:20260423T224103Z
DTSTART:20260503T180000Z
DTEND:20260503T200000Z
SUMMARY:Celebration of Life
DESCRIPTION:
URL:https://www.mattesonfh.com/obituaries/suzan-mertes
LOCATION:Cinnamon Lake Lodge 360 County Road 620  West Salem OH 44287
GEO:40.9760322;-82.1990203
END:VEVENT
END:VCALENDAR