BEGIN:VCALENDAR
VERSION:2.0
PRODID:-//Tukios.com/
BEGIN:VEVENT
UID:55cf749a-c512-4593-9b65-7414b1042c73@www.mattesonfh.com
DTSTAMP:20260424T013428Z
DTSTART:20260428T174500Z
DTEND:20260428T184500Z
SUMMARY:Burial
DESCRIPTION:
URL:https://www.mattesonfh.com/obituaries/stanley-zumack
LOCATION:Ohio Western Reserve National Cemetery 10175 Rawiga Rd  Seville 
	OH 44273
GEO:41.0011374;-81.8101386
END:VEVENT
END:VCALENDAR