BEGIN:VCALENDAR
VERSION:2.0
PRODID:-//Tukios.com/
BEGIN:VEVENT
UID:531e61bc-b67c-466a-b21b-92a253bc1346@www.mattesonfh.com
DTSTAMP:20260424T014016Z
DTSTART:20260428T153000Z
DTEND:20260428T163000Z
SUMMARY:Mass
DESCRIPTION:
URL:https://www.mattesonfh.com/obituaries/stanley-zumack
LOCATION: 44 Britton Street  West Salem OH 44287
GEO:40.9733393;-82.1057566
END:VEVENT
END:VCALENDAR