BEGIN:VCALENDAR
VERSION:2.0
PRODID:-//Tukios.com/
BEGIN:VEVENT
UID:9040d095-ba5f-4f40-8c51-cfe0cd2a0da5@www.mattesonfh.com
DTSTAMP:20260424T013514Z
DTSTART:20260428T133000Z
DTEND:20260428T153000Z
SUMMARY:Visitation
DESCRIPTION:
URL:https://www.mattesonfh.com/obituaries/stanley-zumack
LOCATION: 44 Britton Street  West Salem OH 44287
GEO:40.9733393;-82.1057566
END:VEVENT
END:VCALENDAR