BEGIN:VCALENDAR
VERSION:2.0
PRODID:-//Tukios.com/
BEGIN:VEVENT
UID:9da0f391-46c7-4b00-a2e3-1147d60de6d6@www.mattesonfh.com
DTSTAMP:20260420T002201Z
DTSTART:20260531T160000Z
DTEND:20260531T200000Z
SUMMARY:Celebration of Life
DESCRIPTION:
URL:https://www.mattesonfh.com/obituaries/carolyn-grace
LOCATION:Diamond Match Party Center 8 4th Street Northwest  Barberton OH 
	44203
GEO:41.0108909;-81.6089248
END:VEVENT
END:VCALENDAR